BEGIN:VCALENDAR
VERSION:2.0
PRODID:-//Förderkreis Kultur &amp; Schlösser e.V. - ECPv6.15.17.1//NONSGML v1.0//EN
CALSCALE:GREGORIAN
METHOD:PUBLISH
X-WR-CALNAME:Förderkreis Kultur &amp; Schlösser e.V.
X-ORIGINAL-URL:https://www.kultur-schloesser.de
X-WR-CALDESC:Veranstaltungen für Förderkreis Kultur &amp; Schlösser e.V.
REFRESH-INTERVAL;VALUE=DURATION:PT1H
X-Robots-Tag:noindex
X-PUBLISHED-TTL:PT1H
BEGIN:VTIMEZONE
TZID:Europe/Berlin
BEGIN:DAYLIGHT
TZOFFSETFROM:+0100
TZOFFSETTO:+0200
TZNAME:CEST
DTSTART:20250330T010000
END:DAYLIGHT
BEGIN:STANDARD
TZOFFSETFROM:+0200
TZOFFSETTO:+0100
TZNAME:CET
DTSTART:20251026T010000
END:STANDARD
BEGIN:DAYLIGHT
TZOFFSETFROM:+0100
TZOFFSETTO:+0200
TZNAME:CEST
DTSTART:20260329T010000
END:DAYLIGHT
BEGIN:STANDARD
TZOFFSETFROM:+0200
TZOFFSETTO:+0100
TZNAME:CET
DTSTART:20261025T010000
END:STANDARD
BEGIN:DAYLIGHT
TZOFFSETFROM:+0100
TZOFFSETTO:+0200
TZNAME:CEST
DTSTART:20270328T010000
END:DAYLIGHT
BEGIN:STANDARD
TZOFFSETFROM:+0200
TZOFFSETTO:+0100
TZNAME:CET
DTSTART:20271031T010000
END:STANDARD
END:VTIMEZONE
BEGIN:VEVENT
DTSTART;VALUE=DATE:20260711
DTEND;VALUE=DATE:20260712
DTSTAMP:20260421T125720
CREATED:20260311T085903Z
LAST-MODIFIED:20260311T090303Z
UID:7282-1783728000-1783814399@www.kultur-schloesser.de
SUMMARY:Juryvorspiel 13. Jugend-Kammermusikförderpreis NRW 2026
DESCRIPTION:[vc_row][vc_column][vc_column_text]Mit dem renommierten Jugend-Kammermusikförderpreis NRW werden junge Kammermusik-Talente gefördert. 2026 laden wir Musizierende ein\, die einen 1. Preis beim Landeswettbewerb Jugend musiziert NRW Ensemblewertung (ab AG III) gewonnen haben oder am Förderprogramm für Jugendensembles im Kammermusikzentrum NRW teilnehmen. Voraussetzung ist zudem die Teilnahme am Preisträgerkonzert am 27. September 2026 im Barockschloss Ahaus.\nDer Wettbewerb um den 13. Jugend-Kammermusikförderpreis NRW 2026 wird veranstaltet von der Landesmusikakademie NRW – in Kooperation mit: Kammermusikzentrum NRW\, Landesmusikrat NRW und LJE – Verein zur Förderung von Landesjugendensembles NRW e.V.\nGefördert durch: Ministerium für Kultur und Wissenschaft des Landes Nordrhein-Westfalen\, Förderkreis Kultur & Schlösser e.V. und Sparkasse Westmünsterland.\nSchirmherrin 2026: Ina Brandes MdL\, Ministerin für Kultur und Wissenschaft des Landes Nordrhein-Westfalen. \nwww.kammermusikzentrum-nrw.de \nMehr Info oder direkt bewerben bei:\nLara Langguth | Landesmusikakademie NRW | lara.langguth@lma-nrw.de \nJuryvorspiel: 11.7.2026\nOrt: Landesmusikakademie NRW | Steinweg 2 | 48619 Heek | www.lma-nrw.de \nEinladung 13. Jugend-Kammermusikförderpreis NRW als PDF[/vc_column_text][/vc_column][/vc_row]
URL:https://www.kultur-schloesser.de/programm/juryvorspiel-13-jugend-kammermusikfoerderpreis-nrw-2026/
LOCATION:Landesmusikakademie NRW Heek\, Steinweg 2\, Heek\, 48619\, Deutschland
ATTACH;FMTTYPE=image/png:https://www.kultur-schloesser.de/wp-content/uploads/2026/03/Aufruf-Karte_JKFP-2026.png
END:VEVENT
END:VCALENDAR